BEGIN:VCALENDAR
VERSION:2.0
PRODID:-// //NONSGML ASEM InfoBoard Events //EN
CALSCALE:GREGORIAN
X-WR-CALNAME:ASEM InfoBoard
BEGIN:VEVENT
CREATED:20230303T160250Z
UID:11126 .
DTEND;VALUE=DATE:20200324T080000
DTSTART;VALUE=DATE:20260322T080000
DTSTAMP:20260419T174137Z
LOCATION:Online 
DESCRIPTION:
SUMMARY:Asia-Europe Sustainable Connectivity Scientific Conference (AESCON) 2022 
ORGANIZER:ASEM InfoBoard
URL;VALUE=URI:https://aseminfoboard.org/asem_events/asia-europe-sustainable-connectivity-scientific-conference-aescon-2022-2/
TRANSP:OPAQUE
BEGIN:VALARM
ACTION:DISPLAY
TRIGGER;VALUE=DATE-TIME:20260420T014137Z
DESCRIPTION:Reminder for Asia-Europe Sustainable Connectivity Scientific Conference (AESCON) 2022
END:VALARM
END:VEVENT
END:VCALENDAR