BEGIN:VCALENDAR
VERSION:2.0
PRODID:-// //NONSGML ASEM InfoBoard Events //EN
CALSCALE:GREGORIAN
X-WR-CALNAME:ASEM InfoBoard
BEGIN:VEVENT
CREATED:20230310T115427Z
UID:11166 .
DTEND;VALUE=DATE:20140311T080000
DTSTART;VALUE=DATE:20260309T080000
DTSTAMP:20260419T174049Z
LOCATION:Brussels\, Belgium 
DESCRIPTION:
SUMMARY:ASEM Seminar on Social Dialogue 
ORGANIZER:ASEM InfoBoard
URL;VALUE=URI:https://aseminfoboard.org/asem_events/asem-seminar-on-social-dialogue/
TRANSP:OPAQUE
BEGIN:VALARM
ACTION:DISPLAY
TRIGGER;VALUE=DATE-TIME:20260420T014049Z
DESCRIPTION:Reminder for ASEM Seminar on Social Dialogue
END:VALARM
END:VEVENT
END:VCALENDAR