BEGIN:VCALENDAR
VERSION:2.0
PRODID:-// //NONSGML ASEM InfoBoard Events //EN
CALSCALE:GREGORIAN
X-WR-CALNAME:ASEM InfoBoard
BEGIN:VEVENT
CREATED:20230316T070202Z
UID:11189 .
DTEND;VALUE=DATE:20211231T080000
DTSTART;VALUE=DATE:20260101T080000
DTSTAMP:20260422T005720Z
LOCATION:Phnom Penh\, Cambodia 
DESCRIPTION:
SUMMARY:11th Asia-Europe Parliamentary Partnership Meeting (ASEP11) 
ORGANIZER:ASEM InfoBoard
URL;VALUE=URI:https://aseminfoboard.org/asem_events/11th-asia-europe-parliamentary-partnership-meeting-asep11/
TRANSP:OPAQUE
BEGIN:VALARM
ACTION:DISPLAY
TRIGGER;VALUE=DATE-TIME:20260422T085720Z
DESCRIPTION:Reminder for 11th Asia-Europe Parliamentary Partnership Meeting (ASEP11)
END:VALARM
END:VEVENT
END:VCALENDAR