BEGIN:VCALENDAR
VERSION:2.0
PRODID:-// //NONSGML ASEM InfoBoard Events //EN
CALSCALE:GREGORIAN
X-WR-CALNAME:ASEM InfoBoard
BEGIN:VEVENT
CREATED:20230316T072937Z
UID:11191 .
DTEND;VALUE=DATE:20211231T080000
DTSTART;VALUE=DATE:20260101T080000
DTSTAMP:20260422T023726Z
LOCATION:Phnom Penh\, Cambodia 
DESCRIPTION:
SUMMARY:1st Asia-Europe Economic and Business Forum (AEEBF1) 
ORGANIZER:ASEM InfoBoard
URL;VALUE=URI:https://aseminfoboard.org/asem_events/1st-asia-europe-economic-and-business-forum-aeebf1/
TRANSP:OPAQUE
BEGIN:VALARM
ACTION:DISPLAY
TRIGGER;VALUE=DATE-TIME:20260422T103726Z
DESCRIPTION:Reminder for 1st Asia-Europe Economic and Business Forum (AEEBF1)
END:VALARM
END:VEVENT
END:VCALENDAR