BEGIN:VCALENDAR
VERSION:2.0
PRODID:-// //NONSGML ASEM InfoBoard Events //EN
CALSCALE:GREGORIAN
X-WR-CALNAME:ASEM InfoBoard
BEGIN:VEVENT
CREATED:20240307T045233Z
UID:12655 .
DTEND;VALUE=DATE:20240307T080000
DTSTART;VALUE=DATE:20260306T080000
DTSTAMP:20260424T053458Z
LOCATION:Solo\, Central Java\, Indonesia 
DESCRIPTION:
SUMMARY:Indonesia Celebrates ASEM Day 2024 
ORGANIZER:ASEM InfoBoard
URL;VALUE=URI:https://aseminfoboard.org/asem_events/indonesia-celebrates-asem-day-2024/
TRANSP:OPAQUE
BEGIN:VALARM
ACTION:DISPLAY
TRIGGER;VALUE=DATE-TIME:20260424T133458Z
DESCRIPTION:Reminder for Indonesia Celebrates ASEM Day 2024
END:VALARM
END:VEVENT
END:VCALENDAR