BEGIN:VCALENDAR
VERSION:2.0
PRODID:-// //NONSGML ASEM InfoBoard Events //EN
CALSCALE:GREGORIAN
X-WR-CALNAME:ASEM InfoBoard
BEGIN:VEVENT
CREATED:20250327T015929Z
UID:13845 .
DTEND;VALUE=DATE:20261031T080000
DTSTART;VALUE=DATE:20260320T080000
DTSTAMP:20260420T033612Z
LOCATION: 
DESCRIPTION:
SUMMARY:ASEM DUO-CIMEA/Italy 2025 Call for Application 
ORGANIZER:ASEM InfoBoard
URL;VALUE=URI:https://aseminfoboard.org/asem_events/asem-duo-cimea-italy-2025-call-for-application/
TRANSP:OPAQUE
BEGIN:VALARM
ACTION:DISPLAY
TRIGGER;VALUE=DATE-TIME:20260420T113612Z
DESCRIPTION:Reminder for ASEM DUO-CIMEA/Italy 2025 Call for Application
END:VALARM
END:VEVENT
END:VCALENDAR