BEGIN:VCALENDAR
VERSION:2.0
PRODID:-// //NONSGML ASEM InfoBoard Events //EN
CALSCALE:GREGORIAN
X-WR-CALNAME:ASEM InfoBoard
BEGIN:VEVENT
CREATED:20221101T121913Z
UID:7301 .
DTEND;VALUE=DATE:20210304T080000
DTSTART;VALUE=DATE:20260304T080000
DTSTAMP:20260419T135943Z
LOCATION: 
DESCRIPTION:
SUMMARY:ASEM Day in Russia 
ORGANIZER:ASEM InfoBoard
URL;VALUE=URI:https://aseminfoboard.org/asem_events/asem-day-in-russia/
TRANSP:OPAQUE
BEGIN:VALARM
ACTION:DISPLAY
TRIGGER;VALUE=DATE-TIME:20260419T215943Z
DESCRIPTION:Reminder for ASEM Day in Russia
END:VALARM
END:VEVENT
END:VCALENDAR