BEGIN:VCALENDAR
VERSION:2.0
PRODID:-// //NONSGML ASEM InfoBoard Events //EN
CALSCALE:GREGORIAN
X-WR-CALNAME:ASEM InfoBoard
BEGIN:VEVENT
CREATED:20221102T082949Z
UID:7493 .
DTEND;VALUE=DATE:20170524T080000
DTSTART;VALUE=DATE:20260418T080000
DTSTAMP:20260421T083408Z
LOCATION:Stockholm\, Sweden 
DESCRIPTION:
SUMMARY:2017 ASEM DUO Fellowship Programme – Call for Applications 
ORGANIZER:ASEM InfoBoard
URL;VALUE=URI:https://aseminfoboard.org/asem_events/2017-asem-duo-fellowship-programme-call-for-applications/
TRANSP:OPAQUE
BEGIN:VALARM
ACTION:DISPLAY
TRIGGER;VALUE=DATE-TIME:20260421T163408Z
DESCRIPTION:Reminder for 2017 ASEM DUO Fellowship Programme &#8211\; Call for Applications
END:VALARM
END:VEVENT
END:VCALENDAR