BEGIN:VCALENDAR
VERSION:2.0
PRODID:-// //NONSGML ASEM InfoBoard Events //EN
CALSCALE:GREGORIAN
X-WR-CALNAME:ASEM InfoBoard
BEGIN:VEVENT
CREATED:20221102T084319Z
UID:7511 .
DTEND;VALUE=DATE:20081118T080000
DTSTART;VALUE=DATE:20261117T080000
DTSTAMP:20260421T102056Z
LOCATION:Paris\, France 
DESCRIPTION:
SUMMARY:7th ASEM Conference of the Directors-General of Immigration and Management of Migratory Flows 
ORGANIZER:ASEM InfoBoard
URL;VALUE=URI:https://aseminfoboard.org/asem_events/7th-asem-conference-of-the-directors-general-of-immigration-and-management-of-migratory-flows/
TRANSP:OPAQUE
BEGIN:VALARM
ACTION:DISPLAY
TRIGGER;VALUE=DATE-TIME:20260421T182056Z
DESCRIPTION:Reminder for 7th ASEM Conference of the Directors-General of Immigration and Management of Migratory Flows
END:VALARM
END:VEVENT
END:VCALENDAR