BEGIN:VCALENDAR
VERSION:2.0
PRODID:-// //NONSGML ASEM InfoBoard Events //EN
CALSCALE:GREGORIAN
X-WR-CALNAME:ASEM InfoBoard
BEGIN:VEVENT
CREATED:20221102T084429Z
UID:7512 .
DTEND;VALUE=DATE:20091202T080000
DTSTART;VALUE=DATE:20261201T080000
DTSTAMP:20260419T141830Z
LOCATION:Goa\, India 
DESCRIPTION:
SUMMARY:8th ASEM Conference of the Directors-General of Immigration and Management of Migratory Flows 
ORGANIZER:ASEM InfoBoard
URL;VALUE=URI:https://aseminfoboard.org/asem_events/8th-asem-conference-of-the-directors-general-of-immigration-and-management-of-migratory-flows/
TRANSP:OPAQUE
BEGIN:VALARM
ACTION:DISPLAY
TRIGGER;VALUE=DATE-TIME:20260419T221830Z
DESCRIPTION:Reminder for 8th ASEM Conference of the Directors-General of Immigration and Management of Migratory Flows
END:VALARM
END:VEVENT
END:VCALENDAR