BEGIN:VCALENDAR
VERSION:2.0
PRODID:-// //NONSGML ASEM InfoBoard Events //EN
CALSCALE:GREGORIAN
X-WR-CALNAME:ASEM InfoBoard
BEGIN:VEVENT
CREATED:20221102T094451Z
UID:7561 .
DTEND;VALUE=DATE:20041007T080000
DTSTART;VALUE=DATE:20261006T080000
DTSTAMP:20260419T135934Z
LOCATION:Hanoi\, Viet Nam 
DESCRIPTION:
SUMMARY:ASEM Senior Officials’ Meeting (SOM) 
ORGANIZER:ASEM InfoBoard
URL;VALUE=URI:https://aseminfoboard.org/asem_events/asem-senior-officials-meeting-som-27/
TRANSP:OPAQUE
BEGIN:VALARM
ACTION:DISPLAY
TRIGGER;VALUE=DATE-TIME:20260419T215934Z
DESCRIPTION:Reminder for ASEM Senior Officials&#8217\; Meeting (SOM)
END:VALARM
END:VEVENT
END:VCALENDAR