BEGIN:VCALENDAR
VERSION:2.0
PRODID:-// //NONSGML ASEM InfoBoard Events //EN
CALSCALE:GREGORIAN
X-WR-CALNAME:ASEM InfoBoard
BEGIN:VEVENT
CREATED:20221102T094652Z
UID:7565 .
DTEND;VALUE=DATE:20050312T080000
DTSTART;VALUE=DATE:20260311T080000
DTSTAMP:20260419T135944Z
LOCATION:Jakarta\, Indonesia 
DESCRIPTION:
SUMMARY:ASEM Senior Officials’ Meeting (SOM) 
ORGANIZER:ASEM InfoBoard
URL;VALUE=URI:https://aseminfoboard.org/asem_events/asem-senior-officials-meeting-som-29/
TRANSP:OPAQUE
BEGIN:VALARM
ACTION:DISPLAY
TRIGGER;VALUE=DATE-TIME:20260419T215944Z
DESCRIPTION:Reminder for ASEM Senior Officials&#8217\; Meeting (SOM)
END:VALARM
END:VEVENT
END:VCALENDAR