BEGIN:VCALENDAR
VERSION:2.0
PRODID:-// //NONSGML ASEM InfoBoard Events //EN
CALSCALE:GREGORIAN
X-WR-CALNAME:ASEM InfoBoard
BEGIN:VEVENT
CREATED:20221102T104445Z
UID:7599 .
DTEND;VALUE=DATE:20111117T080000
DTSTART;VALUE=DATE:20261116T080000
DTSTAMP:20260419T121048Z
LOCATION:Busan\, Korea 
DESCRIPTION:
SUMMARY:3rd ASEM Forum on Marine Fisheries 
ORGANIZER:ASEM InfoBoard
URL;VALUE=URI:https://aseminfoboard.org/asem_events/3rd-asem-forum-on-marine-fisheries/
TRANSP:OPAQUE
BEGIN:VALARM
ACTION:DISPLAY
TRIGGER;VALUE=DATE-TIME:20260419T201048Z
DESCRIPTION:Reminder for 3rd ASEM Forum on Marine Fisheries
END:VALARM
END:VEVENT
END:VCALENDAR