BEGIN:VCALENDAR
VERSION:2.0
PRODID:-// //NONSGML ASEM InfoBoard Events //EN
CALSCALE:GREGORIAN
X-WR-CALNAME:ASEM InfoBoard
BEGIN:VEVENT
CREATED:20221102T104842Z
UID:7604 .
DTEND;VALUE=DATE:20171120T080000
DTSTART;VALUE=DATE:20261115T080000
DTSTAMP:20260424T020656Z
LOCATION:Yangon & Nay Pyi Taw\, Myanmar 
DESCRIPTION:
SUMMARY:8th Model ASEM (ModelASEM8) 
ORGANIZER:ASEM InfoBoard
URL;VALUE=URI:https://aseminfoboard.org/asem_events/14th-asia-europe-economic-forum-aeef14-2/
TRANSP:OPAQUE
BEGIN:VALARM
ACTION:DISPLAY
TRIGGER;VALUE=DATE-TIME:20260424T100656Z
DESCRIPTION:Reminder for 8th Model ASEM (ModelASEM8)
END:VALARM
END:VEVENT
END:VCALENDAR