BEGIN:VCALENDAR
VERSION:2.0
PRODID:-// //NONSGML ASEM InfoBoard Events //EN
CALSCALE:GREGORIAN
X-WR-CALNAME:ASEM InfoBoard
BEGIN:VEVENT
CREATED:20221102T112025Z
UID:7623 .
DTEND;VALUE=DATE:20151030T080000
DTSTART;VALUE=DATE:20261029T080000
DTSTAMP:20260419T155126Z
LOCATION:Madrid\, Spain 
DESCRIPTION:
SUMMARY:4th ASEM Seminar on Nuclear Safety 
ORGANIZER:ASEM InfoBoard
URL;VALUE=URI:https://aseminfoboard.org/asem_events/4th-asem-seminar-on-nuclear-safety/
TRANSP:OPAQUE
BEGIN:VALARM
ACTION:DISPLAY
TRIGGER;VALUE=DATE-TIME:20260419T235126Z
DESCRIPTION:Reminder for 4th ASEM Seminar on Nuclear Safety
END:VALARM
END:VEVENT
END:VCALENDAR