BEGIN:VCALENDAR
VERSION:2.0
PRODID:-// //NONSGML ASEM InfoBoard Events //EN
CALSCALE:GREGORIAN
X-WR-CALNAME:ASEM InfoBoard
BEGIN:VEVENT
CREATED:20221102T123232Z
UID:7663 .
DTEND;VALUE=DATE:20040302T080000
DTSTART;VALUE=DATE:20260301T080000
DTSTAMP:20260419T133752Z
LOCATION:Cork\, Ireland 
DESCRIPTION:
SUMMARY:7th ASEM Finance Deputies Meeting 
ORGANIZER:ASEM InfoBoard
URL;VALUE=URI:https://aseminfoboard.org/asem_events/7th-asem-finance-deputies-meeting/
TRANSP:OPAQUE
BEGIN:VALARM
ACTION:DISPLAY
TRIGGER;VALUE=DATE-TIME:20260419T213752Z
DESCRIPTION:Reminder for 7th ASEM Finance Deputies Meeting
END:VALARM
END:VEVENT
END:VCALENDAR