BEGIN:VCALENDAR
VERSION:2.0
PRODID:-// //NONSGML ASEM InfoBoard Events //EN
CALSCALE:GREGORIAN
X-WR-CALNAME:ASEM InfoBoard
BEGIN:VEVENT
CREATED:20221103T114618Z
UID:7753 .
DTEND;VALUE=DATE:20050628T080000
DTSTART;VALUE=DATE:20260627T080000
DTSTAMP:20260419T140824Z
LOCATION:Peebles\, United Kingdom 
DESCRIPTION:
SUMMARY:6th ASEM Customs DG-Commissioners Meeting 
ORGANIZER:ASEM InfoBoard
URL;VALUE=URI:https://aseminfoboard.org/asem_events/6th-asem-customs-dg-commissioners-meeting/
TRANSP:OPAQUE
BEGIN:VALARM
ACTION:DISPLAY
TRIGGER;VALUE=DATE-TIME:20260419T220824Z
DESCRIPTION:Reminder for 6th ASEM Customs DG-Commissioners Meeting
END:VALARM
END:VEVENT
END:VCALENDAR