BEGIN:VCALENDAR
VERSION:2.0
PRODID:-// //NONSGML ASEM InfoBoard Events //EN
CALSCALE:GREGORIAN
X-WR-CALNAME:ASEM InfoBoard
BEGIN:VEVENT
CREATED:20221103T114814Z
UID:7754 .
DTEND;VALUE=DATE:20071113T080000
DTSTART;VALUE=DATE:20261112T080000
DTSTAMP:20260419T155131Z
LOCATION:Yokohama\, Japan 
DESCRIPTION:
SUMMARY:7th ASEM Customs DG-Commissioners Meeting 
ORGANIZER:ASEM InfoBoard
URL;VALUE=URI:https://aseminfoboard.org/asem_events/7th-asem-customs-dg-commissioners-meeting/
TRANSP:OPAQUE
BEGIN:VALARM
ACTION:DISPLAY
TRIGGER;VALUE=DATE-TIME:20260419T235131Z
DESCRIPTION:Reminder for 7th ASEM Customs DG-Commissioners Meeting
END:VALARM
END:VEVENT
END:VCALENDAR