BEGIN:VCALENDAR
VERSION:2.0
PRODID:-// //NONSGML ASEM InfoBoard Events //EN
CALSCALE:GREGORIAN
X-WR-CALNAME:ASEM InfoBoard
BEGIN:VEVENT
CREATED:20221103T141818Z
UID:7869 .
DTEND;VALUE=DATE:20140606T080000
DTSTART;VALUE=DATE:20260604T080000
DTSTAMP:20260419T133514Z
LOCATION:Manila\, Philippines 
DESCRIPTION:
SUMMARY:ASEM Manila Conference on Disaster Risk Reduction and Management (DRRM) 
ORGANIZER:ASEM InfoBoard
URL;VALUE=URI:https://aseminfoboard.org/asem_events/asem-manila-conference-on-disaster-risk-reduction-and-management-drrm/
TRANSP:OPAQUE
BEGIN:VALARM
ACTION:DISPLAY
TRIGGER;VALUE=DATE-TIME:20260419T213514Z
DESCRIPTION:Reminder for ASEM Manila Conference on Disaster Risk Reduction and Management (DRRM)
END:VALARM
END:VEVENT
END:VCALENDAR