BEGIN:VCALENDAR
VERSION:2.0
PRODID:-// //NONSGML ASEM InfoBoard Events //EN
CALSCALE:GREGORIAN
X-WR-CALNAME:ASEM InfoBoard
BEGIN:VEVENT
CREATED:20221103T150744Z
UID:8047 .
DTEND;VALUE=DATE:20061103T080000
DTSTART;VALUE=DATE:20261102T080000
DTSTAMP:20260419T140052Z
LOCATION:Jiaxing\, China 
DESCRIPTION:
SUMMARY:5th ASEM Conference on E-Commerce 
ORGANIZER:ASEM InfoBoard
URL;VALUE=URI:https://aseminfoboard.org/asem_events/5th-asem-conference-on-e-commerce/
TRANSP:OPAQUE
BEGIN:VALARM
ACTION:DISPLAY
TRIGGER;VALUE=DATE-TIME:20260419T220052Z
DESCRIPTION:Reminder for 5th ASEM Conference on E-Commerce
END:VALARM
END:VEVENT
END:VCALENDAR