BEGIN:VCALENDAR
VERSION:2.0
PRODID:-// //NONSGML ASEM InfoBoard Events //EN
CALSCALE:GREGORIAN
X-WR-CALNAME:ASEM InfoBoard
BEGIN:VEVENT
CREATED:20221103T160028Z
UID:8083 .
DTEND;VALUE=DATE:20171017T080000
DTSTART;VALUE=DATE:20261016T080000
DTSTAMP:20260419T152759Z
LOCATION:Berlin\, Germany 
DESCRIPTION:
SUMMARY:12th ASEM Customs DG-Commissioners’ Meeting 
ORGANIZER:ASEM InfoBoard
URL;VALUE=URI:https://aseminfoboard.org/asem_events/12th-asem-customs-dg-commissioners-meeting/
TRANSP:OPAQUE
BEGIN:VALARM
ACTION:DISPLAY
TRIGGER;VALUE=DATE-TIME:20260419T232759Z
DESCRIPTION:Reminder for 12th ASEM Customs DG-Commissioners&#8217\; Meeting
END:VALARM
END:VEVENT
END:VCALENDAR