BEGIN:VCALENDAR
VERSION:2.0
PRODID:-// //NONSGML ASEM InfoBoard Events //EN
CALSCALE:GREGORIAN
X-WR-CALNAME:ASEM InfoBoard
BEGIN:VEVENT
CREATED:20221104T150649Z
UID:8177 .
DTEND;VALUE=DATE:19970208T080000
DTSTART;VALUE=DATE:20260207T080000
DTSTAMP:20260419T140058Z
LOCATION:Brussels\, Belgium 
DESCRIPTION:
SUMMARY:1st ASEM Customs Enforcement Working Group (EWG) Meeting 
ORGANIZER:ASEM InfoBoard
URL;VALUE=URI:https://aseminfoboard.org/asem_events/1st-asem-customs-enforcement-working-group-ewg-meeting/
TRANSP:OPAQUE
BEGIN:VALARM
ACTION:DISPLAY
TRIGGER;VALUE=DATE-TIME:20260419T220058Z
DESCRIPTION:Reminder for 1st ASEM Customs Enforcement Working Group (EWG) Meeting
END:VALARM
END:VEVENT
END:VCALENDAR