BEGIN:VCALENDAR
VERSION:2.0
PRODID:-// //NONSGML ASEM InfoBoard Events //EN
CALSCALE:GREGORIAN
X-WR-CALNAME:ASEM InfoBoard
BEGIN:VEVENT
CREATED:20221104T151804Z
UID:8182 .
DTEND;VALUE=DATE:20140509T080000
DTSTART;VALUE=DATE:20260507T080000
DTSTAMP:20260419T171757Z
LOCATION:Hangzhou\, China 
DESCRIPTION:
SUMMARY:ASEM Education Senior Officials’ Meeting 
ORGANIZER:ASEM InfoBoard
URL;VALUE=URI:https://aseminfoboard.org/asem_events/asem-education-senior-officials-meeting-2/
TRANSP:OPAQUE
BEGIN:VALARM
ACTION:DISPLAY
TRIGGER;VALUE=DATE-TIME:20260420T011757Z
DESCRIPTION:Reminder for ASEM Education Senior Officials&#8217\; Meeting
END:VALARM
END:VEVENT
END:VCALENDAR