BEGIN:VCALENDAR
VERSION:2.0
PRODID:-// //NONSGML ASEM InfoBoard Events //EN
CALSCALE:GREGORIAN
X-WR-CALNAME:ASEM InfoBoard
BEGIN:VEVENT
CREATED:20221107T114901Z
UID:8237 .
DTEND;VALUE=DATE:20020607T080000
DTSTART;VALUE=DATE:20260606T080000
DTSTAMP:20260423T230740Z
LOCATION:Madrid\, Spain 
DESCRIPTION:
SUMMARY:4th ASEM Foreign Ministers’ Meeting (ASEMFMM4) 
ORGANIZER:ASEM InfoBoard
URL;VALUE=URI:https://aseminfoboard.org/asem_events/4th-asem-foreign-ministers-meeting-asemfmm4/
TRANSP:OPAQUE
BEGIN:VALARM
ACTION:DISPLAY
TRIGGER;VALUE=DATE-TIME:20260424T070740Z
DESCRIPTION:Reminder for 4th ASEM Foreign Ministers&#8217\; Meeting (ASEMFMM4)
END:VALARM
END:VEVENT
END:VCALENDAR