BEGIN:VCALENDAR
VERSION:2.0
PRODID:-// //NONSGML ASEM InfoBoard Events //EN
CALSCALE:GREGORIAN
X-WR-CALNAME:ASEM InfoBoard
BEGIN:VEVENT
CREATED:20221107T122436Z
UID:8252 .
DTEND;VALUE=DATE:20110630T080000
DTSTART;VALUE=DATE:20260628T080000
DTSTAMP:20260419T140052Z
LOCATION:Lin'An\, China 
DESCRIPTION:
SUMMARY:ASEM Symposium on Sustainable Forest Management to Address Climate Change 
ORGANIZER:ASEM InfoBoard
URL;VALUE=URI:https://aseminfoboard.org/asem_events/asem-symposium-on-sustainable-forest-management-to-address-climate-change/
TRANSP:OPAQUE
BEGIN:VALARM
ACTION:DISPLAY
TRIGGER;VALUE=DATE-TIME:20260419T220052Z
DESCRIPTION:Reminder for ASEM Symposium on Sustainable Forest Management to Address Climate Change
END:VALARM
END:VEVENT
END:VCALENDAR