BEGIN:VCALENDAR
VERSION:2.0
PRODID:-// //NONSGML ASEM InfoBoard Events //EN
CALSCALE:GREGORIAN
X-WR-CALNAME:ASEM InfoBoard
BEGIN:VEVENT
CREATED:20221107T122933Z
UID:8254 .
DTEND;VALUE=DATE:20170921T080000
DTSTART;VALUE=DATE:20260919T080000
DTSTAMP:20260419T152758Z
LOCATION:Seoul\, Korea 
DESCRIPTION:
SUMMARY:5th ASEM Working Group Seminar on SMEs Eco-Innovation Competence 
ORGANIZER:ASEM InfoBoard
URL;VALUE=URI:https://aseminfoboard.org/asem_events/5th-asem-working-group-seminar-on-smes-eco-innovation-competence/
TRANSP:OPAQUE
BEGIN:VALARM
ACTION:DISPLAY
TRIGGER;VALUE=DATE-TIME:20260419T232758Z
DESCRIPTION:Reminder for 5th ASEM Working Group Seminar on SMEs Eco-Innovation Competence
END:VALARM
END:VEVENT
END:VCALENDAR