BEGIN:VCALENDAR
VERSION:2.0
PRODID:-// //NONSGML ASEM InfoBoard Events //EN
CALSCALE:GREGORIAN
X-WR-CALNAME:ASEM InfoBoard
BEGIN:VEVENT
CREATED:20221107T123415Z
UID:8256 .
DTEND;VALUE=DATE:20170915T080000
DTSTART;VALUE=DATE:20260914T080000
DTSTAMP:20260419T155123Z
LOCATION:Beijing\, China 
DESCRIPTION:
SUMMARY:2nd ASEM High-level Meeting on Disability 
ORGANIZER:ASEM InfoBoard
URL;VALUE=URI:https://aseminfoboard.org/asem_events/2nd-asem-high-level-meeting-on-disability/
TRANSP:OPAQUE
BEGIN:VALARM
ACTION:DISPLAY
TRIGGER;VALUE=DATE-TIME:20260419T235123Z
DESCRIPTION:Reminder for 2nd ASEM High-level Meeting on Disability
END:VALARM
END:VEVENT
END:VCALENDAR