BEGIN:VCALENDAR
VERSION:2.0
PRODID:-// //NONSGML ASEM InfoBoard Events //EN
CALSCALE:GREGORIAN
X-WR-CALNAME:ASEM InfoBoard
BEGIN:VEVENT
CREATED:20221107T123908Z
UID:8262 .
DTEND;VALUE=DATE:20170516T080000
DTSTART;VALUE=DATE:20260410T080000
DTSTAMP:20260419T155002Z
LOCATION:Seoul\, Korea 
DESCRIPTION:
SUMMARY:2017 ASEM DUO Fellowship Programme – Call for Applications 
ORGANIZER:ASEM InfoBoard
URL;VALUE=URI:https://aseminfoboard.org/asem_events/2017-asem-duo-fellowship-programme-call-for-applications-2/
TRANSP:OPAQUE
BEGIN:VALARM
ACTION:DISPLAY
TRIGGER;VALUE=DATE-TIME:20260419T235002Z
DESCRIPTION:Reminder for 2017 ASEM DUO Fellowship Programme &#8211\; Call for Applications
END:VALARM
END:VEVENT
END:VCALENDAR