BEGIN:VCALENDAR
VERSION:2.0
PRODID:-// //NONSGML ASEM InfoBoard Events //EN
CALSCALE:GREGORIAN
X-WR-CALNAME:ASEM InfoBoard
BEGIN:VEVENT
CREATED:20221107T125921Z
UID:8273 .
DTEND;VALUE=DATE:20160714T080000
DTSTART;VALUE=DATE:20260712T080000
DTSTAMP:20260419T155131Z
LOCATION:Ulaanbaatar\, Mongolia 
DESCRIPTION:
SUMMARY:ASEM Senior Officials’ Meeting (ASEM SOM) for ASEM11 
ORGANIZER:ASEM InfoBoard
URL;VALUE=URI:https://aseminfoboard.org/asem_events/asem-senior-officials-meeting-asem-som-for-asem11/
TRANSP:OPAQUE
BEGIN:VALARM
ACTION:DISPLAY
TRIGGER;VALUE=DATE-TIME:20260419T235131Z
DESCRIPTION:Reminder for ASEM Senior Officials&#8217\; Meeting (ASEM SOM) for ASEM11
END:VALARM
END:VEVENT
END:VCALENDAR