BEGIN:VCALENDAR
VERSION:2.0
PRODID:-// //NONSGML ASEM InfoBoard Events //EN
CALSCALE:GREGORIAN
X-WR-CALNAME:ASEM InfoBoard
BEGIN:VEVENT
CREATED:20221107T131117Z
UID:8279 .
DTEND;VALUE=DATE:20170425T080000
DTSTART;VALUE=DATE:20260425T080000
DTSTAMP:20260419T152036Z
LOCATION:Sopot\, Poland 
DESCRIPTION:
SUMMARY:8th ASEM Customs-Trade Day 
ORGANIZER:ASEM InfoBoard
URL;VALUE=URI:https://aseminfoboard.org/asem_events/8th-asem-customs-trade-day/
TRANSP:OPAQUE
BEGIN:VALARM
ACTION:DISPLAY
TRIGGER;VALUE=DATE-TIME:20260419T232036Z
DESCRIPTION:Reminder for 8th ASEM Customs-Trade Day
END:VALARM
END:VEVENT
END:VCALENDAR