BEGIN:VCALENDAR
VERSION:2.0
PRODID:-// //NONSGML ASEM InfoBoard Events //EN
CALSCALE:GREGORIAN
X-WR-CALNAME:ASEM InfoBoard
BEGIN:VEVENT
CREATED:20221107T154553Z
UID:8340 .
DTEND;VALUE=DATE:20030118T080000
DTSTART;VALUE=DATE:20260117T080000
DTSTAMP:20260419T140127Z
LOCATION:Hanoi\, Viet Nam 
DESCRIPTION:
SUMMARY:1st ASEM Consultation on WTO Doha Development Agenda 
ORGANIZER:ASEM InfoBoard
URL;VALUE=URI:https://aseminfoboard.org/asem_events/1st-asem-consultation-on-wto-doha-development-agenda/
TRANSP:OPAQUE
BEGIN:VALARM
ACTION:DISPLAY
TRIGGER;VALUE=DATE-TIME:20260419T220127Z
DESCRIPTION:Reminder for 1st ASEM Consultation on WTO Doha Development Agenda
END:VALARM
END:VEVENT
END:VCALENDAR