BEGIN:VCALENDAR
VERSION:2.0
PRODID:-// //NONSGML ASEM InfoBoard Events //EN
CALSCALE:GREGORIAN
X-WR-CALNAME:ASEM InfoBoard
BEGIN:VEVENT
CREATED:20221108T094540Z
UID:8389 .
DTEND;VALUE=DATE:20141205T080000
DTSTART;VALUE=DATE:20261204T080000
DTSTAMP:20260419T133516Z
LOCATION:New Delhi\, India 
DESCRIPTION:
SUMMARY:ASEM Roundtable on ‘Innovations in Technologies for Disaster Rescue Efforts’ 
ORGANIZER:ASEM InfoBoard
URL;VALUE=URI:https://aseminfoboard.org/asem_events/asem-roundtable-on-innovations-in-technologies-for-disaster-rescue-efforts/
TRANSP:OPAQUE
BEGIN:VALARM
ACTION:DISPLAY
TRIGGER;VALUE=DATE-TIME:20260419T213516Z
DESCRIPTION:Reminder for ASEM Roundtable on ‘Innovations in Technologies for Disaster Rescue Efforts’
END:VALARM
END:VEVENT
END:VCALENDAR