BEGIN:VCALENDAR
VERSION:2.0
PRODID:-// //NONSGML ASEM InfoBoard Events //EN
CALSCALE:GREGORIAN
X-WR-CALNAME:ASEM InfoBoard
BEGIN:VEVENT
CREATED:20221108T113044Z
UID:8434 .
DTEND;VALUE=DATE:20041203T080000
DTSTART;VALUE=DATE:20261130T080000
DTSTAMP:20260419T140054Z
LOCATION:Netherlands\, Netherlands 
DESCRIPTION:
SUMMARY:8th ASEM Young Leaders’ Symposium 
ORGANIZER:ASEM InfoBoard
URL;VALUE=URI:https://aseminfoboard.org/asem_events/8th-asem-young-leaders-symposium/
TRANSP:OPAQUE
BEGIN:VALARM
ACTION:DISPLAY
TRIGGER;VALUE=DATE-TIME:20260419T220054Z
DESCRIPTION:Reminder for 8th ASEM Young Leaders&#8217\; Symposium
END:VALARM
END:VEVENT
END:VCALENDAR