BEGIN:VCALENDAR
VERSION:2.0
PRODID:-// //NONSGML ASEM InfoBoard Events //EN
CALSCALE:GREGORIAN
X-WR-CALNAME:ASEM InfoBoard
BEGIN:VEVENT
CREATED:20221108T131513Z
UID:8464 .
DTEND;VALUE=DATE:20210303T080000
DTSTART;VALUE=DATE:20260303T080000
DTSTAMP:20260419T135942Z
LOCATION: 
DESCRIPTION:
SUMMARY:ASEM Day in Viet Nam 
ORGANIZER:ASEM InfoBoard
URL;VALUE=URI:https://aseminfoboard.org/asem_events/asem-day-in-viet-nam/
TRANSP:OPAQUE
BEGIN:VALARM
ACTION:DISPLAY
TRIGGER;VALUE=DATE-TIME:20260419T215942Z
DESCRIPTION:Reminder for ASEM Day in Viet Nam
END:VALARM
END:VEVENT
END:VCALENDAR