BEGIN:VCALENDAR
VERSION:2.0
PRODID:-// //NONSGML ASEM InfoBoard Events //EN
CALSCALE:GREGORIAN
X-WR-CALNAME:ASEM InfoBoard
BEGIN:VEVENT
CREATED:20221108T131711Z
UID:8469 .
DTEND;VALUE=DATE:20151216T080000
DTSTART;VALUE=DATE:20261214T080000
DTSTAMP:20260419T140049Z
LOCATION:Seoul\, Korea 
DESCRIPTION:
SUMMARY:ASEM Working Group on Innovative Competences and Entrepreneurship 2nd Phase Opening Seminar 
ORGANIZER:ASEM InfoBoard
URL;VALUE=URI:https://aseminfoboard.org/asem_events/asem-working-group-on-innovative-competences-and-entrepreneurship-2nd-phase-opening-seminar/
TRANSP:OPAQUE
BEGIN:VALARM
ACTION:DISPLAY
TRIGGER;VALUE=DATE-TIME:20260419T220049Z
DESCRIPTION:Reminder for ASEM Working Group on Innovative Competences and Entrepreneurship 2nd Phase Opening Seminar
END:VALARM
END:VEVENT
END:VCALENDAR