BEGIN:VCALENDAR
VERSION:2.0
PRODID:-// //NONSGML ASEM InfoBoard Events //EN
CALSCALE:GREGORIAN
X-WR-CALNAME:ASEM InfoBoard
BEGIN:VEVENT
CREATED:20221108T133914Z
UID:8491 .
DTEND;VALUE=DATE:20151006T080000
DTSTART;VALUE=DATE:20261005T080000
DTSTAMP:20260419T155003Z
LOCATION:Singapore\, Singapore 
DESCRIPTION:
SUMMARY:13th ASEM Conference of the Directors-General of Immigration and Management of Migratory Flows 
ORGANIZER:ASEM InfoBoard
URL;VALUE=URI:https://aseminfoboard.org/asem_events/13th-asem-conference-of-the-directors-general-of-immigration-and-management-of-migratory-flows/
TRANSP:OPAQUE
BEGIN:VALARM
ACTION:DISPLAY
TRIGGER;VALUE=DATE-TIME:20260419T235003Z
DESCRIPTION:Reminder for 13th ASEM Conference of the Directors-General of Immigration and Management of Migratory Flows
END:VALARM
END:VEVENT
END:VCALENDAR