BEGIN:VCALENDAR
VERSION:2.0
PRODID:-// //NONSGML ASEM InfoBoard Events //EN
CALSCALE:GREGORIAN
X-WR-CALNAME:ASEM InfoBoard
BEGIN:VEVENT
CREATED:20221108T140829Z
UID:8526 .
DTEND;VALUE=DATE:20150619T080000
DTSTART;VALUE=DATE:20260617T080000
DTSTAMP:20260419T120952Z
LOCATION:Liège\, Belgium 
DESCRIPTION:
SUMMARY:9th Meeting of the ASEM Working Group on Customs Matters (AWC) 
ORGANIZER:ASEM InfoBoard
URL;VALUE=URI:https://aseminfoboard.org/asem_events/9th-meeting-of-the-asem-working-group-on-customs-matters-awc/
TRANSP:OPAQUE
BEGIN:VALARM
ACTION:DISPLAY
TRIGGER;VALUE=DATE-TIME:20260419T200952Z
DESCRIPTION:Reminder for 9th Meeting of the ASEM Working Group on Customs Matters (AWC)
END:VALARM
END:VEVENT
END:VCALENDAR