BEGIN:VCALENDAR
VERSION:2.0
PRODID:-// //NONSGML ASEM InfoBoard Events //EN
CALSCALE:GREGORIAN
X-WR-CALNAME:ASEM InfoBoard
BEGIN:VEVENT
CREATED:20221108T144815Z
UID:8547 .
DTEND;VALUE=DATE:20130517T080000
DTSTART;VALUE=DATE:20260515T080000
DTSTAMP:20260419T135945Z
LOCATION:Prague\, Czech Republic 
DESCRIPTION:
SUMMARY:7th Meeting of the ASEM Working Group on Customs Matters (AWC) 
ORGANIZER:ASEM InfoBoard
URL;VALUE=URI:https://aseminfoboard.org/asem_events/7th-meeting-of-the-asem-working-group-on-customs-matters-awc/
TRANSP:OPAQUE
BEGIN:VALARM
ACTION:DISPLAY
TRIGGER;VALUE=DATE-TIME:20260419T215945Z
DESCRIPTION:Reminder for 7th Meeting of the ASEM Working Group on Customs Matters (AWC)
END:VALARM
END:VEVENT
END:VCALENDAR