BEGIN:VCALENDAR
VERSION:2.0
PRODID:-// //NONSGML ASEM InfoBoard Events //EN
CALSCALE:GREGORIAN
X-WR-CALNAME:ASEM InfoBoard
BEGIN:VEVENT
CREATED:20221108T145043Z
UID:8549 .
DTEND;VALUE=DATE:20050505T080000
DTSTART;VALUE=DATE:20260501T080000
DTSTAMP:20260419T135933Z
LOCATION:Copenhagen\, Denmark 
DESCRIPTION:
SUMMARY:ASEM Education and Research Hub for Life Long Learning 
ORGANIZER:ASEM InfoBoard
URL;VALUE=URI:https://aseminfoboard.org/asem_events/asem-education-and-research-hub-for-life-long-learning/
TRANSP:OPAQUE
BEGIN:VALARM
ACTION:DISPLAY
TRIGGER;VALUE=DATE-TIME:20260419T215933Z
DESCRIPTION:Reminder for ASEM Education and Research Hub for Life Long Learning
END:VALARM
END:VEVENT
END:VCALENDAR