BEGIN:VCALENDAR
VERSION:2.0
PRODID:-// //NONSGML ASEM InfoBoard Events //EN
CALSCALE:GREGORIAN
X-WR-CALNAME:ASEM InfoBoard
BEGIN:VEVENT
CREATED:20221108T153304Z
UID:8582 .
DTEND;VALUE=DATE:20151112T080000
DTSTART;VALUE=DATE:20261111T080000
DTSTAMP:20260419T135935Z
LOCATION:Brussels\, Belgium 
DESCRIPTION:
SUMMARY:ASEM SPS and Food Safety Seminar: Promoting Cooperation and Coordination on Food Safety Standards  (Scientific and technical aspects) 
ORGANIZER:ASEM InfoBoard
URL;VALUE=URI:https://aseminfoboard.org/asem_events/asem-sps-and-food-safety-seminar-promoting-cooperation-and-coordination-on-food-safety-standards-scientific-and-technical-aspects/
TRANSP:OPAQUE
BEGIN:VALARM
ACTION:DISPLAY
TRIGGER;VALUE=DATE-TIME:20260419T215935Z
DESCRIPTION:Reminder for ASEM SPS and Food Safety Seminar: Promoting Cooperation and Coordination on Food Safety Standards  (Scientific and technical aspects)
END:VALARM
END:VEVENT
END:VCALENDAR