BEGIN:VCALENDAR
VERSION:2.0
PRODID:-// //NONSGML ASEM InfoBoard Events //EN
CALSCALE:GREGORIAN
X-WR-CALNAME:ASEM InfoBoard
BEGIN:VEVENT
CREATED:20221108T155930Z
UID:8610 .
DTEND;VALUE=DATE:20191002T080000
DTSTART;VALUE=DATE:20261001T080000
DTSTAMP:20260419T140104Z
LOCATION:Seoul\, Korea 
DESCRIPTION:
SUMMARY:4th ASEM Conference on Global Ageing and Human Rights of Older Persons 
ORGANIZER:ASEM InfoBoard
URL;VALUE=URI:https://aseminfoboard.org/asem_events/4th-asem-conference-on-global-ageing-and-human-rights-of-older-persons/
TRANSP:OPAQUE
BEGIN:VALARM
ACTION:DISPLAY
TRIGGER;VALUE=DATE-TIME:20260419T220104Z
DESCRIPTION:Reminder for 4th ASEM Conference on Global Ageing and Human Rights of Older Persons
END:VALARM
END:VEVENT
END:VCALENDAR