BEGIN:VCALENDAR
VERSION:2.0
PRODID:-// //NONSGML ASEM InfoBoard Events //EN
CALSCALE:GREGORIAN
X-WR-CALNAME:ASEM InfoBoard
BEGIN:VEVENT
CREATED:20221109T080755Z
UID:8621 .
DTEND;VALUE=DATE:20111012T080000
DTSTART;VALUE=DATE:20261011T080000
DTSTAMP:20260419T140749Z
LOCATION:Hua Hin\, Thailand 
DESCRIPTION:
SUMMARY:9th ASEM Customs DG-Commissioners Meeting 
ORGANIZER:ASEM InfoBoard
URL;VALUE=URI:https://aseminfoboard.org/asem_events/9th-asem-customs-dg-commissioners-meeting/
TRANSP:OPAQUE
BEGIN:VALARM
ACTION:DISPLAY
TRIGGER;VALUE=DATE-TIME:20260419T220749Z
DESCRIPTION:Reminder for 9th ASEM Customs DG-Commissioners Meeting
END:VALARM
END:VEVENT
END:VCALENDAR