BEGIN:VCALENDAR
VERSION:2.0
PRODID:-// //NONSGML ASEM InfoBoard Events //EN
CALSCALE:GREGORIAN
X-WR-CALNAME:ASEM InfoBoard
BEGIN:VEVENT
CREATED:20221109T102205Z
UID:8670 .
DTEND;VALUE=DATE:20170301T080000
DTSTART;VALUE=DATE:20260301T080000
DTSTAMP:20260419T140101Z
LOCATION:Bucharest\, Romania 
DESCRIPTION:
SUMMARY:ASEM Day: Romania 
ORGANIZER:ASEM InfoBoard
URL;VALUE=URI:https://aseminfoboard.org/asem_events/asem-day-romania/
TRANSP:OPAQUE
BEGIN:VALARM
ACTION:DISPLAY
TRIGGER;VALUE=DATE-TIME:20260419T220101Z
DESCRIPTION:Reminder for ASEM Day: Romania
END:VALARM
END:VEVENT
END:VCALENDAR