BEGIN:VCALENDAR
VERSION:2.0
PRODID:-// //NONSGML ASEM InfoBoard Events //EN
CALSCALE:GREGORIAN
X-WR-CALNAME:ASEM InfoBoard
BEGIN:VEVENT
CREATED:20221109T104721Z
UID:8689 .
DTEND;VALUE=DATE:20070615T080000
DTSTART;VALUE=DATE:20260614T080000
DTSTAMP:20260419T121036Z
LOCATION:Muju\, Korea 
DESCRIPTION:
SUMMARY:10th ASEM Finance Deputies’ Meeting 
ORGANIZER:ASEM InfoBoard
URL;VALUE=URI:https://aseminfoboard.org/asem_events/10th-asem-finance-deputies-meeting/
TRANSP:OPAQUE
BEGIN:VALARM
ACTION:DISPLAY
TRIGGER;VALUE=DATE-TIME:20260419T201036Z
DESCRIPTION:Reminder for 10th ASEM Finance Deputies&#8217\; Meeting
END:VALARM
END:VEVENT
END:VCALENDAR