BEGIN:VCALENDAR
VERSION:2.0
PRODID:-// //NONSGML ASEM InfoBoard Events //EN
CALSCALE:GREGORIAN
X-WR-CALNAME:ASEM InfoBoard
BEGIN:VEVENT
CREATED:20221109T121249Z
UID:8739 .
DTEND;VALUE=DATE:20051123T080000
DTSTART;VALUE=DATE:20261122T080000
DTSTAMP:20260421T084508Z
LOCATION:Ho Chi Minh\, Viet Nam 
DESCRIPTION:
SUMMARY:1st ASEM Workshop on HIV/AIDS 
ORGANIZER:ASEM InfoBoard
URL;VALUE=URI:https://aseminfoboard.org/asem_events/1st-asem-workshop-on-hiv-aids/
TRANSP:OPAQUE
BEGIN:VALARM
ACTION:DISPLAY
TRIGGER;VALUE=DATE-TIME:20260421T164508Z
DESCRIPTION:Reminder for 1st ASEM Workshop on HIV/AIDS
END:VALARM
END:VEVENT
END:VCALENDAR