BEGIN:VCALENDAR
VERSION:2.0
PRODID:-// //NONSGML ASEM InfoBoard Events //EN
CALSCALE:GREGORIAN
X-WR-CALNAME:ASEM InfoBoard
BEGIN:VEVENT
CREATED:20221109T130000Z
UID:8787 .
DTEND;VALUE=DATE:20180629T080000
DTSTART;VALUE=DATE:20260628T080000
DTSTAMP:20260419T140822Z
LOCATION:Vienna\, Austria 
DESCRIPTION:
SUMMARY:4th Meeting of the ASEM Pathfinder Group on Connectivity (APGC4) & 1st ASEM Senior Officials’ Meeting (ASEM SOM1) for the 12th ASEM Summit (ASEM12) 
ORGANIZER:ASEM InfoBoard
URL;VALUE=URI:https://aseminfoboard.org/asem_events/4th-meeting-of-the-asem-pathfinder-group-on-connectivity-apgc4-1st-asem-senior-officials-meeting-asem-som1-for-the-12th-asem-summit-asem12/
TRANSP:OPAQUE
BEGIN:VALARM
ACTION:DISPLAY
TRIGGER;VALUE=DATE-TIME:20260419T220822Z
DESCRIPTION:Reminder for 4th Meeting of the ASEM Pathfinder Group on Connectivity (APGC4) &#038\; 1st ASEM Senior Officials&#8217\; Meeting (ASEM SOM1) for the 12th ASEM Summit (ASEM12)
END:VALARM
END:VEVENT
END:VCALENDAR