BEGIN:VCALENDAR
VERSION:2.0
PRODID:-// //NONSGML ASEM InfoBoard Events //EN
CALSCALE:GREGORIAN
X-WR-CALNAME:ASEM InfoBoard
BEGIN:VEVENT
CREATED:20221109T140859Z
UID:8845 .
DTEND;VALUE=DATE:20170427T080000
DTSTART;VALUE=DATE:20260426T080000
DTSTAMP:20260419T140103Z
LOCATION:Sopot\, Poland 
DESCRIPTION:
SUMMARY:11th Meeting of the ASEM Working Group on Customs Matters (AWC) 
ORGANIZER:ASEM InfoBoard
URL;VALUE=URI:https://aseminfoboard.org/asem_events/11th-meeting-of-the-asem-working-group-on-customs-matters-awc/
TRANSP:OPAQUE
BEGIN:VALARM
ACTION:DISPLAY
TRIGGER;VALUE=DATE-TIME:20260419T220103Z
DESCRIPTION:Reminder for 11th Meeting of the ASEM Working Group on Customs Matters (AWC)
END:VALARM
END:VEVENT
END:VCALENDAR