BEGIN:VCALENDAR
VERSION:2.0
PRODID:-// //NONSGML ASEM InfoBoard Events //EN
CALSCALE:GREGORIAN
X-WR-CALNAME:ASEM InfoBoard
BEGIN:VEVENT
CREATED:20221109T152521Z
UID:8910 .
DTEND;VALUE=DATE:20160716T080000
DTSTART;VALUE=DATE:20260715T080000
DTSTAMP:20260419T152200Z
LOCATION:Ulaanbaatar\, Mongolia 
DESCRIPTION:
SUMMARY:11th ASEM Summit (ASEM11) 
ORGANIZER:ASEM InfoBoard
URL;VALUE=URI:https://aseminfoboard.org/asem_events/11th-asem-summit-asem11/
TRANSP:OPAQUE
BEGIN:VALARM
ACTION:DISPLAY
TRIGGER;VALUE=DATE-TIME:20260419T232200Z
DESCRIPTION:Reminder for 11th ASEM Summit (ASEM11)
END:VALARM
END:VEVENT
END:VCALENDAR